BEGIN:VCALENDAR
VERSION:2.0
PRODID:-//Kino Tuškanac//Filmski programi//HR
BEGIN:VEVENT
UID:ea29de9487a936487f4b053c2d6cb108@kinotuskanac.hr
DTSTAMP:20260423T144816Z
DTSTART:20091105T210000
DTEND:20091105T230000
SUMMARY:Vjenčanje Romea i Julije
LOCATION:Kino Tuškanac
DESCRIPTION:O Casamento de Romeu e Julieta, Brazil, 2005 R: Bruno Barreto
END:VEVENT
END:VCALENDAR