BEGIN:VCALENDAR
VERSION:2.0
PRODID:-//Kino Tuškanac//Filmski programi//HR
BEGIN:VEVENT
UID:2f2dd979e97a0b1465246cf629304fc5@kinotuskanac.hr
DTSTAMP:20260423T144934Z
DTSTART:20091106T190000
DTEND:20091106T210000
SUMMARY:Vjenčanje Romea i Julije
LOCATION:Kino Tuškanac
DESCRIPTION:O Casamento de Romeu e Julieta, Brazil, 2005 R: Bruno Barreto
END:VEVENT
END:VCALENDAR