BEGIN:VCALENDAR
VERSION:2.0
PRODID:-//Kino Tuškanac//Filmski programi//HR
BEGIN:VEVENT
UID:2402d856393f29fa8d63872a5c362c25@kinotuskanac.hr
DTSTAMP:20260423T143852Z
DTSTART:20091109T210000
DTEND:20091109T230000
SUMMARY:El Bola
LOCATION:Kino Tuškanac
DESCRIPTION:2000 R: Achero Mańas
END:VEVENT
END:VCALENDAR