BEGIN:VCALENDAR
VERSION:2.0
PRODID:-//Kino Tuškanac//Filmski programi//HR
BEGIN:VEVENT
UID:2ab12dd8d90c5d9e3a88ee50140ffcda@kinotuskanac.hr
DTSTAMP:20260423T143709Z
DTSTART:20091110T190000
DTEND:20091110T210000
SUMMARY:El Bola
LOCATION:Kino Tuškanac
DESCRIPTION:2000 R: Achero Mańas
END:VEVENT
END:VCALENDAR