BEGIN:VCALENDAR
VERSION:2.0
PRODID:-//Kino Tuškanac//Filmski programi//HR
BEGIN:VEVENT
UID:6d7ef94692f967a71c3b9f67c09f6fb4@kinotuskanac.hr
DTSTAMP:20260423T111436Z
DTSTART:20091111T210000
DTEND:20091111T230000
SUMMARY:Same
LOCATION:Kino Tuškanac
DESCRIPTION:Solas, 1999 R: Benito Zambrano
END:VEVENT
END:VCALENDAR