BEGIN:VCALENDAR
VERSION:2.0
PRODID:-//Kino Tuškanac//Filmski programi//HR
BEGIN:VEVENT
UID:b59f8b0cdaefd6a6915270fa07bf8de0@kinotuskanac.hr
DTSTAMP:20260423T111429Z
DTSTART:20091112T190000
DTEND:20091112T210000
SUMMARY:Same
LOCATION:Kino Tuškanac
DESCRIPTION:Solas, 1999 R: Benito Zambrano
END:VEVENT
END:VCALENDAR