BEGIN:VCALENDAR
VERSION:2.0
PRODID:-//Kino Tuškanac//Filmski programi//HR
BEGIN:VEVENT
UID:dd801ccf8e9c73f7519cfb578089dd01@kinotuskanac.hr
DTSTAMP:20260419T205902Z
DTSTART:20091202T190000
DTEND:20091202T210000
SUMMARY:M
LOCATION:Kino Tuškanac
DESCRIPTION:M - Eine Stadt sucht einen Mörder, Njemačka, 1931 R: Fritz Lang
END:VEVENT
END:VCALENDAR