BEGIN:VCALENDAR
VERSION:2.0
PRODID:-//Kino Tuškanac//Filmski programi//HR
BEGIN:VEVENT
UID:fd3aab53bbe02d57941d267c3ffcdbc3@kinotuskanac.hr
DTSTAMP:20260423T045437Z
DTSTART:20091202T210000
DTEND:20091202T230000
SUMMARY:Testament doktora Mabusea
LOCATION:Kino Tuškanac
DESCRIPTION:Das Testament des Dr. Mabuse, Njemačka, Francuska, 1933 R: Fritz Lang
END:VEVENT
END:VCALENDAR