BEGIN:VCALENDAR
VERSION:2.0
PRODID:-//Kino Tuškanac//Filmski programi//HR
BEGIN:VEVENT
UID:d8346d63ddb2d910915e58a16278be5c@kinotuskanac.hr
DTSTAMP:20260423T045437Z
DTSTART:20091203T190000
DTEND:20091203T210000
SUMMARY:Testament doktora Mabusea
LOCATION:Kino Tuškanac
DESCRIPTION:Das Testament des Dr. Mabuse, Njemačka, Francuska, 1933 R: Fritz Lang
END:VEVENT
END:VCALENDAR