BEGIN:VCALENDAR
VERSION:2.0
PRODID:-//Kino Tuškanac//Filmski programi//HR
BEGIN:VEVENT
UID:3e92f6acdac74dc0b1cee5d207bc4a28@kinotuskanac.hr
DTSTAMP:20260419T210122Z
DTSTART:20091203T210000
DTEND:20091203T230000
SUMMARY:M
LOCATION:Kino Tuškanac
DESCRIPTION:M - Eine Stadt sucht einen Mörder, Njemačka, 1931 R: Fritz Lang
END:VEVENT
END:VCALENDAR