BEGIN:VCALENDAR
VERSION:2.0
PRODID:-//Kino Tuškanac//Filmski programi//HR
BEGIN:VEVENT
UID:7a03ca59d8ef49a4976e4721d3388c2d@kinotuskanac.hr
DTSTAMP:20260421T220920Z
DTSTART:20091204T210000
DTEND:20091204T230000
SUMMARY:Na divljem zapadu
LOCATION:Kino Tuškanac
DESCRIPTION:Western union, 1941 R: Fritz Lang
END:VEVENT
END:VCALENDAR