BEGIN:VCALENDAR
VERSION:2.0
PRODID:-//Kino Tuškanac//Filmski programi//HR
BEGIN:VEVENT
UID:6e63ad96d6b6f298a5694992340b6600@kinotuskanac.hr
DTSTAMP:20260421T220751Z
DTSTART:20091207T190000
DTEND:20091207T210000
SUMMARY:Na divljem zapadu
LOCATION:Kino Tuškanac
DESCRIPTION:Western union, 1941 R: Fritz Lang
END:VEVENT
END:VCALENDAR