BEGIN:VCALENDAR
VERSION:2.0
PRODID:-//Kino Tuškanac//Filmski programi//HR
BEGIN:VEVENT
UID:30d48d865d1be5d4a27e32d26d6ecfbb@kinotuskanac.hr
DTSTAMP:20260423T161032Z
DTSTART:20091217T210000
DTEND:20091217T230000
SUMMARY:Lažljivac Jakob
LOCATION:Kino Tuškanac
DESCRIPTION:Jakob, der Lügner, 1974 R: Frank Beyer
END:VEVENT
END:VCALENDAR