BEGIN:VCALENDAR
VERSION:2.0
PRODID:-//Kino Tuškanac//Filmski programi//HR
BEGIN:VEVENT
UID:c90892176eba8b658eee7dca486801fa@kinotuskanac.hr
DTSTAMP:20260423T160902Z
DTSTART:20091218T190000
DTEND:20091218T210000
SUMMARY:Lažljivac Jakob
LOCATION:Kino Tuškanac
DESCRIPTION:Jakob, der Lügner, 1974 R: Frank Beyer
END:VEVENT
END:VCALENDAR