BEGIN:VCALENDAR
VERSION:2.0
PRODID:-//Kino Tuškanac//Filmski programi//HR
BEGIN:VEVENT
UID:322146991df3830faaea41caa6792813@kinotuskanac.hr
DTSTAMP:20260419T141657Z
DTSTART:20091218T210000
DTEND:20091218T230000
SUMMARY:Kralj i njegova dvorska luda
LOCATION:Kino Tuškanac
DESCRIPTION:Der König und sein Narr, 1980 R: Frank Beyer
END:VEVENT
END:VCALENDAR