BEGIN:VCALENDAR
VERSION:2.0
PRODID:-//Kino Tuškanac//Filmski programi//HR
BEGIN:VEVENT
UID:e49f8c4d819bc997a8944d82074eeb8d@kinotuskanac.hr
DTSTAMP:20260419T141658Z
DTSTART:20091219T190000
DTEND:20091219T210000
SUMMARY:Kralj i njegova dvorska luda
LOCATION:Kino Tuškanac
DESCRIPTION:Der König und sein Narr, 1980 R: Frank Beyer
END:VEVENT
END:VCALENDAR