BEGIN:VCALENDAR
VERSION:2.0
PRODID:-//Kino Tuškanac//Filmski programi//HR
BEGIN:VEVENT
UID:38b8323b9387daadeec96c07bea3e32b@kinotuskanac.hr
DTSTAMP:20260419T141812Z
DTSTART:20091219T210000
DTEND:20091219T230000
SUMMARY:Solo Sunny
LOCATION:Kino Tuškanac
DESCRIPTION:1980 R: Konrad Wolf
END:VEVENT
END:VCALENDAR