BEGIN:VCALENDAR
VERSION:2.0
PRODID:-//Kino Tuškanac//Filmski programi//HR
BEGIN:VEVENT
UID:18e906f826b28e37e89f7472f2d48ced@kinotuskanac.hr
DTSTAMP:20260419T141827Z
DTSTART:20091221T190000
DTEND:20091221T210000
SUMMARY:Solo Sunny
LOCATION:Kino Tuškanac
DESCRIPTION:1980 R: Konrad Wolf
END:VEVENT
END:VCALENDAR