BEGIN:VCALENDAR
VERSION:2.0
PRODID:-//Kino Tuškanac//Filmski programi//HR
BEGIN:VEVENT
UID:7f20bb56c407b0a3a2b38cae97063b94@kinotuskanac.hr
DTSTAMP:20260424T182940Z
DTSTART:20091222T190000
DTEND:20091222T210000
SUMMARY:Coming Out
LOCATION:Kino Tuškanac
DESCRIPTION:1989 R: Heiner Carow
END:VEVENT
END:VCALENDAR