BEGIN:VCALENDAR
VERSION:2.0
PRODID:-//Kino Tuškanac//Filmski programi//HR
BEGIN:VEVENT
UID:7d56da6951dda7081d81e292a36e0128@kinotuskanac.hr
DTSTAMP:20260424T183300Z
DTSTART:20091223T190000
DTEND:20091223T210000
SUMMARY:Coming Out
LOCATION:Kino Tuškanac
DESCRIPTION:1989 R: Heiner Carow
END:VEVENT
END:VCALENDAR