BEGIN:VCALENDAR
VERSION:2.0
PRODID:-//Kino Tuškanac//Filmski programi//HR
BEGIN:VEVENT
UID:05e4d8a87b31e698202d27eb16a1db4f@kinotuskanac.hr
DTSTAMP:20260423T111430Z
DTSTART:20091117T200000
DTEND:20091117T220000
SUMMARY:Kozmonaut
LOCATION:Kino Tuškanac
DESCRIPTION:Cosmonauta, Italija, 2008 R: Susanna Nicchiarelli
END:VEVENT
END:VCALENDAR