BEGIN:VCALENDAR
VERSION:2.0
PRODID:-//Kino Tuškanac//Filmski programi//HR
BEGIN:VEVENT
UID:904301a0716e88dbdee556d6789f373a@kinotuskanac.hr
DTSTAMP:20260419T141644Z
DTSTART:20091118T200000
DTEND:20091118T220000
SUMMARY:Za sve je kriv Juda
LOCATION:Kino Tuškanac
DESCRIPTION:Tutta colpa di Giuda, Italija, 2009 R: Davide Ferrario
END:VEVENT
END:VCALENDAR