BEGIN:VCALENDAR
VERSION:2.0
PRODID:-//Kino Tuškanac//Filmski programi//HR
BEGIN:VEVENT
UID:a7e5f1a500f08cc8b4af5b47a29eed82@kinotuskanac.hr
DTSTAMP:20260422T172004Z
DTSTART:20091119T210000
DTEND:20091119T230000
SUMMARY:Buntovnica sa Sicilije
LOCATION:Kino Tuškanac
DESCRIPTION:La siciliana ribelle, Italija, 2008 R: Marco Amenta
END:VEVENT
END:VCALENDAR