BEGIN:VCALENDAR
VERSION:2.0
PRODID:-//Kino Tuškanac//Filmski programi//HR
BEGIN:VEVENT
UID:6913d9587f1f3ff68cb44e0d12aafcb5@kinotuskanac.hr
DTSTAMP:20260423T143626Z
DTSTART:20091121T190000
DTEND:20091121T210000
SUMMARY:Giulia ne izlazi noću
LOCATION:Kino Tuškanac
DESCRIPTION:Giulia non esce la sera, Italija, 2009 R: Giuseppe Piccioni
END:VEVENT
END:VCALENDAR