BEGIN:VCALENDAR
VERSION:2.0
PRODID:-//Kino Tuškanac//Filmski programi//HR
BEGIN:VEVENT
UID:b74171b76330d30db510c52e0ebfe8b5@kinotuskanac.hr
DTSTAMP:20260423T111436Z
DTSTART:20091118T200000
DTEND:20091118T220000
SUMMARY:Kozmonaut
LOCATION:Kino Tuškanac
DESCRIPTION:Cosmonauta, Italija, 2008 R: Susanna Nicchiarelli
END:VEVENT
END:VCALENDAR