BEGIN:VCALENDAR
VERSION:2.0
PRODID:-//Kino Tuškanac//Filmski programi//HR
BEGIN:VEVENT
UID:172e50e8b1d82644e32d6bdaa2084aff@kinotuskanac.hr
DTSTAMP:20260422T171848Z
DTSTART:20091121T200000
DTEND:20091121T220000
SUMMARY:Buntovnica sa Sicilije
LOCATION:Kino Tuškanac
DESCRIPTION:La siciliana ribelle, Italija, 2008 R: Marco Amenta
END:VEVENT
END:VCALENDAR