BEGIN:VCALENDAR
VERSION:2.0
PRODID:-//Kino Tuškanac//Filmski programi//HR
BEGIN:VEVENT
UID:f6b5b76d961be99663dd9efab9d88718@kinotuskanac.hr
DTSTAMP:20260422T061148Z
DTSTART:20100202T210000
DTEND:20100202T230000
SUMMARY:Praznični dan
LOCATION:Kino Tuškanac
DESCRIPTION:Jour de fête, Francuska, 1949 R: Jacques Tati
END:VEVENT
END:VCALENDAR