BEGIN:VCALENDAR
VERSION:2.0
PRODID:-//Kino Tuškanac//Filmski programi//HR
BEGIN:VEVENT
UID:425ac31f5868dd3bc8ec5612917c45f7@kinotuskanac.hr
DTSTAMP:20260422T061139Z
DTSTART:20100203T190000
DTEND:20100203T210000
SUMMARY:Praznični dan
LOCATION:Kino Tuškanac
DESCRIPTION:Jour de fête, Francuska, 1949 R: Jacques Tati
END:VEVENT
END:VCALENDAR