BEGIN:VCALENDAR
VERSION:2.0
PRODID:-//Kino Tuškanac//Filmski programi//HR
BEGIN:VEVENT
UID:b203c0a678608e693f98f9d19a414111@kinotuskanac.hr
DTSTAMP:20260422T070633Z
DTSTART:20100206T210000
DTEND:20100206T230000
SUMMARY:Parada
LOCATION:Kino Tuškanac
DESCRIPTION:Parade, Francuska, Švedska, 1974 R: Jacques Tati
END:VEVENT
END:VCALENDAR