BEGIN:VCALENDAR
VERSION:2.0
PRODID:-//Kino Tuškanac//Filmski programi//HR
BEGIN:VEVENT
UID:fe107ddb1b06dcc486d4f124beeec4b1@kinotuskanac.hr
DTSTAMP:20260421T151244Z
DTSTART:20100210T190000
DTEND:20100210T210000
SUMMARY:Vraćam se
LOCATION:Kino Tuškanac
DESCRIPTION:Volver, Španjolska, 2006 R: Pedro Almodóvar
END:VEVENT
END:VCALENDAR