BEGIN:VCALENDAR
VERSION:2.0
PRODID:-//Kino Tuškanac//Filmski programi//HR
BEGIN:VEVENT
UID:b452350507345173f716dd39164c7f5e@kinotuskanac.hr
DTSTAMP:20260421T092720Z
DTSTART:20100211T210000
DTEND:20100211T230000
SUMMARY:Pričaj s njom
LOCATION:Kino Tuškanac
DESCRIPTION:Hable con ella, Španjolska, 2002 R: Pedro Almodóvar
END:VEVENT
END:VCALENDAR