BEGIN:VCALENDAR
VERSION:2.0
PRODID:-//Kino Tuškanac//Filmski programi//HR
BEGIN:VEVENT
UID:4e94f6e02141111f862e879f0182846e@kinotuskanac.hr
DTSTAMP:20260421T092901Z
DTSTART:20100212T190000
DTEND:20100212T210000
SUMMARY:Pričaj s njom
LOCATION:Kino Tuškanac
DESCRIPTION:Hable con ella, Španjolska, 2002 R: Pedro Almodóvar
END:VEVENT
END:VCALENDAR