BEGIN:VCALENDAR
VERSION:2.0
PRODID:-//Kino Tuškanac//Filmski programi//HR
BEGIN:VEVENT
UID:1aa975f4521a792518cca384289b4ee1@kinotuskanac.hr
DTSTAMP:20260420T170203Z
DTSTART:20100215T210000
DTEND:20100215T230000
SUMMARY:Kika
LOCATION:Kino Tuškanac
DESCRIPTION:Španjolska, 1993 R: Pedro Almodóvar
END:VEVENT
END:VCALENDAR