BEGIN:VCALENDAR
VERSION:2.0
PRODID:-//Kino Tuškanac//Filmski programi//HR
BEGIN:VEVENT
UID:bd21e90a2b14515e19397e4c82f9f494@kinotuskanac.hr
DTSTAMP:20260420T165814Z
DTSTART:20100216T190000
DTEND:20100216T210000
SUMMARY:Kika
LOCATION:Kino Tuškanac
DESCRIPTION:Španjolska, 1993 R: Pedro Almodóvar
END:VEVENT
END:VCALENDAR