BEGIN:VCALENDAR
VERSION:2.0
PRODID:-//Kino Tuškanac//Filmski programi//HR
BEGIN:VEVENT
UID:de71bf6888c47894954fd229630c0ccc@kinotuskanac.hr
DTSTAMP:20260420T165712Z
DTSTART:20100219T190000
DTEND:20100219T210000
SUMMARY:Čime sam to zaslužila?
LOCATION:Kino Tuškanac
DESCRIPTION:Qué he hecho yo para merecer esto?, Španjolska, 1984 R: Pedro Almodóvar
END:VEVENT
END:VCALENDAR