BEGIN:VCALENDAR
VERSION:2.0
PRODID:-//Kino Tuškanac//Filmski programi//HR
BEGIN:VEVENT
UID:69c53aaf2d68882542fa1d552be000f0@kinotuskanac.hr
DTSTAMP:20260421T151147Z
DTSTART:20100220T211500
DTEND:20100220T231500
SUMMARY:Vraćam se
LOCATION:Kino Tuškanac
DESCRIPTION:Volver, Španjolska, 2006 R: Pedro Almodóvar
END:VEVENT
END:VCALENDAR