BEGIN:VCALENDAR
VERSION:2.0
PRODID:-//Kino Tuškanac//Filmski programi//HR
BEGIN:VEVENT
UID:0be03b5bbdc773079b25fd4efe4317af@kinotuskanac.hr
DTSTAMP:20260420T170034Z
DTSTART:20100222T190000
DTEND:20100222T210000
SUMMARY:Nesvjesno
LOCATION:Kino Tuškanac
DESCRIPTION:De ofrivilliga, 2008 R: Ruben Östlund
END:VEVENT
END:VCALENDAR