BEGIN:VCALENDAR
VERSION:2.0
PRODID:-//Kino Tuškanac//Filmski programi//HR
BEGIN:VEVENT
UID:87fd446560f13a7467f34598cedb0af2@kinotuskanac.hr
DTSTAMP:20260420T165555Z
DTSTART:20100223T190000
DTEND:20100223T210000
SUMMARY:Nesvjesno
LOCATION:Kino Tuškanac
DESCRIPTION:De ofrivilliga, 2008 R: Ruben Östlund
END:VEVENT
END:VCALENDAR