BEGIN:VCALENDAR
VERSION:2.0
PRODID:-//Kino Tuškanac//Filmski programi//HR
BEGIN:VEVENT
UID:0a7275878a24a2f0b33b1a6de06c7b8a@kinotuskanac.hr
DTSTAMP:20260421T035234Z
DTSTART:20100223T210000
DTEND:20100223T230000
SUMMARY:Kad padne mrak
LOCATION:Kino Tuškanac
DESCRIPTION:När mörkret faller, 2006 R: Anders Nilsson
END:VEVENT
END:VCALENDAR