BEGIN:VCALENDAR
VERSION:2.0
PRODID:-//Kino Tuškanac//Filmski programi//HR
BEGIN:VEVENT
UID:1f2df9d072fb5e058fef4d77c8d8a3ec@kinotuskanac.hr
DTSTAMP:20260421T035116Z
DTSTART:20100224T190000
DTEND:20100224T210000
SUMMARY:Kad padne mrak
LOCATION:Kino Tuškanac
DESCRIPTION:När mörkret faller, 2006 R: Anders Nilsson
END:VEVENT
END:VCALENDAR