BEGIN:VCALENDAR
VERSION:2.0
PRODID:-//Kino Tuškanac//Filmski programi//HR
BEGIN:VEVENT
UID:778968a7d294b1640485e9b4be748c99@kinotuskanac.hr
DTSTAMP:20260422T083556Z
DTSTART:20100317T210000
DTEND:20100317T230000
SUMMARY:Boja raja
LOCATION:Kino Tuškanac
DESCRIPTION:Rang-e khoda, 1999 R: Majid Majidi
END:VEVENT
END:VCALENDAR