BEGIN:VCALENDAR
VERSION:2.0
PRODID:-//Kino Tuškanac//Filmski programi//HR
BEGIN:VEVENT
UID:82136ab47d9d9d2703697bcecf6eb573@kinotuskanac.hr
DTSTAMP:20260422T083642Z
DTSTART:20100318T190000
DTEND:20100318T210000
SUMMARY:Boja raja
LOCATION:Kino Tuškanac
DESCRIPTION:Rang-e khoda, 1999 R: Majid Majidi
END:VEVENT
END:VCALENDAR