BEGIN:VCALENDAR
VERSION:2.0
PRODID:-//Kino Tuškanac//Filmski programi//HR
BEGIN:VEVENT
UID:7ce929d895a7e59a67ef612c00dc9183@kinotuskanac.hr
DTSTAMP:20260424T182753Z
DTSTART:20030415T170000
DTEND:20030415T190000
SUMMARY:Banović Strahinja
LOCATION:Kino Tuškanac
DESCRIPTION:Hrvatska, 1981 R: Vatroslav Mimica
END:VEVENT
END:VCALENDAR