BEGIN:VCALENDAR
VERSION:2.0
PRODID:-//Kino Tuškanac//Filmski programi//HR
BEGIN:VEVENT
UID:22ecc860a4357d641a7c5bfd8b818112@kinotuskanac.hr
DTSTAMP:20260423T150221Z
DTSTART:20100313T210000
DTEND:20100313T230000
SUMMARY:Kradljivci konja
LOCATION:Kino Tuškanac
DESCRIPTION:Voleurs de chevaux, Belgija, 2007 R: Micha Wald
END:VEVENT
END:VCALENDAR