BEGIN:VCALENDAR
VERSION:2.0
PRODID:-//Kino Tuškanac//Filmski programi//HR
BEGIN:VEVENT
UID:d2c1884b680ccb2639378038b50608e0@kinotuskanac.hr
DTSTAMP:20260421T080204Z
DTSTART:20030415T190000
DTEND:20030415T210000
SUMMARY:Noć
LOCATION:Kino Tuškanac
DESCRIPTION:La notte, Italija, Francuska, 1961 R: Michelangelo Antonioni
END:VEVENT
END:VCALENDAR