BEGIN:VCALENDAR
VERSION:2.0
PRODID:-//Kino Tuškanac//Filmski programi//HR
BEGIN:VEVENT
UID:53fee43f3e3c7f67f2791a0794f04104@kinotuskanac.hr
DTSTAMP:20260420T130507Z
DTSTART:20100421T210000
DTEND:20100421T230000
SUMMARY:Kaotična Ana
LOCATION:Kino Tuškanac
DESCRIPTION:Caótica Ana, 2007. R: Julio Medem
END:VEVENT
END:VCALENDAR