BEGIN:VCALENDAR
VERSION:2.0
PRODID:-//Kino Tuškanac//Filmski programi//HR
BEGIN:VEVENT
UID:59262ef1629d646c8421c1beabc9c11b@kinotuskanac.hr
DTSTAMP:20260420T130528Z
DTSTART:20100422T190000
DTEND:20100422T210000
SUMMARY:Kaotična Ana
LOCATION:Kino Tuškanac
DESCRIPTION:Caótica Ana, 2007. R: Julio Medem
END:VEVENT
END:VCALENDAR