BEGIN:VCALENDAR
VERSION:2.0
PRODID:-//Kino Tuškanac//Filmski programi//HR
BEGIN:VEVENT
UID:8474577abcf225f840b82e023b04ec57@kinotuskanac.hr
DTSTAMP:20260420T154532Z
DTSTART:20100424T210000
DTEND:20100424T230000
SUMMARY:Mataharis
LOCATION:Kino Tuškanac
DESCRIPTION:2007. R: Icíar Bollaín
END:VEVENT
END:VCALENDAR