BEGIN:VCALENDAR
VERSION:2.0
PRODID:-//Kino Tuškanac//Filmski programi//HR
BEGIN:VEVENT
UID:9ff371fc56deba34df12f1483d5c7628@kinotuskanac.hr
DTSTAMP:20260423T042347Z
DTSTART:20030422T170000
DTEND:20030422T190000
SUMMARY:Abeceda straha
LOCATION:Kino Tuškanac
DESCRIPTION:Jugoslavija: Hrvatska, 1961 R: Fadil Hadžić
END:VEVENT
END:VCALENDAR