BEGIN:VCALENDAR
VERSION:2.0
PRODID:-//Kino Tuškanac//Filmski programi//HR
BEGIN:VEVENT
UID:f7093cc8bc79371c7f29ab7886148569@kinotuskanac.hr
DTSTAMP:20260423T090829Z
DTSTART:20100607T210000
DTEND:20100607T230000
SUMMARY:Ljepota đavola
LOCATION:Kino Tuškanac
DESCRIPTION:La beauté du diable, 1950. R: René Clair
END:VEVENT
END:VCALENDAR